BEGIN:VCALENDAR
VERSION:2.0
PRODID:spatie/icalendar-generator
BEGIN:VTIMEZONE
TZID:UTC
BEGIN:STANDARD
DTSTART:20250727T195816
TZOFFSETFROM:+0000
TZOFFSETTO:+0000
END:STANDARD
END:VTIMEZONE
BEGIN:VEVENT
UID:69ea79d8b74fe
DTSTAMP:20260423T195816Z
SUMMARY:RADIKAL. REAL. Nouveau Réalisme und die Kunst der 1960er Jahre
DTSTART:20260714T080000Z
DTEND:20260714T080000Z
END:VEVENT
END:VCALENDAR