BEGIN:VCALENDAR
VERSION:2.0
PRODID:spatie/icalendar-generator
BEGIN:VTIMEZONE
TZID:UTC
BEGIN:STANDARD
DTSTART:20250726T195001
TZOFFSETFROM:+0000
TZOFFSETTO:+0000
END:STANDARD
END:VTIMEZONE
BEGIN:VEVENT
UID:69e92669a1c23
DTSTAMP:20260422T195001Z
SUMMARY:Von Dürer bis Piranesi – Druckgrafik aus der Mannheimer Sammlung
  Anton von Klein (1746 – 1810)
DTSTART:20261103T090000Z
DTEND:20261103T090000Z
END:VEVENT
END:VCALENDAR