BEGIN:VCALENDAR
VERSION:2.0
PRODID:spatie/icalendar-generator
BEGIN:VTIMEZONE
TZID:UTC
BEGIN:STANDARD
DTSTART:20250726T230025
TZOFFSETFROM:+0000
TZOFFSETTO:+0000
END:STANDARD
END:VTIMEZONE
BEGIN:VEVENT
UID:69e95309bf709
DTSTAMP:20260422T230025Z
SUMMARY:Von Dürer bis Piranesi – Druckgrafik aus der Mannheimer Sammlung
  Anton von Klein (1746 – 1810)
DTSTART:20261029T090000Z
DTEND:20261029T090000Z
END:VEVENT
END:VCALENDAR