BEGIN:VCALENDAR
VERSION:2.0
PRODID:spatie/icalendar-generator
BEGIN:VTIMEZONE
TZID:UTC
BEGIN:STANDARD
DTSTART:20250726T230002
TZOFFSETFROM:+0000
TZOFFSETTO:+0000
END:STANDARD
END:VTIMEZONE
BEGIN:VEVENT
UID:69e952f24f89a
DTSTAMP:20260422T230002Z
SUMMARY:Von Dürer bis Piranesi – Druckgrafik aus der Mannheimer Sammlung
  Anton von Klein (1746 – 1810)
DTSTART:20261028T090000Z
DTEND:20261028T090000Z
END:VEVENT
END:VCALENDAR