BEGIN:VCALENDAR
VERSION:2.0
PRODID:spatie/icalendar-generator
BEGIN:VTIMEZONE
TZID:UTC
BEGIN:STANDARD
DTSTART:20250728T192945
TZOFFSETFROM:+0000
TZOFFSETTO:+0000
END:STANDARD
END:VTIMEZONE
BEGIN:VEVENT
UID:69ebc4a9b0f89
DTSTAMP:20260424T192945Z
SUMMARY:Von Dürer bis Piranesi – Druckgrafik aus der Mannheimer Sammlung
  Anton von Klein (1746 – 1810)
DTSTART:20260830T080000Z
DTEND:20260830T080000Z
END:VEVENT
END:VCALENDAR