BEGIN:VCALENDAR
VERSION:2.0
PRODID:spatie/icalendar-generator
BEGIN:VTIMEZONE
TZID:UTC
BEGIN:STANDARD
DTSTART:20250728T051636
TZOFFSETFROM:+0000
TZOFFSETTO:+0000
END:STANDARD
END:VTIMEZONE
BEGIN:VEVENT
UID:69eafcb4c98e5
DTSTAMP:20260424T051636Z
SUMMARY:Von Dürer bis Piranesi – Druckgrafik aus der Mannheimer Sammlung
  Anton von Klein (1746 – 1810)
DTSTART:20260729T080000Z
DTEND:20260729T080000Z
END:VEVENT
END:VCALENDAR