BEGIN:VCALENDAR
VERSION:2.0
PRODID:spatie/icalendar-generator
BEGIN:VTIMEZONE
TZID:UTC
BEGIN:STANDARD
DTSTART:20250724T144113
TZOFFSETFROM:+0000
TZOFFSETTO:+0000
END:STANDARD
END:VTIMEZONE
BEGIN:VEVENT
UID:69e63b092c3cb
DTSTAMP:20260420T144113Z
SUMMARY:Sommerferienprogramm - Kindersportwoche mit AWO & SKV
DTSTART:20260803T063000Z
DTEND:20260803T063000Z
END:VEVENT
END:VCALENDAR