BEGIN:VCALENDAR
VERSION:2.0
PRODID:spatie/icalendar-generator
BEGIN:VTIMEZONE
TZID:UTC
BEGIN:STANDARD
DTSTART:20250724T105522
TZOFFSETFROM:+0000
TZOFFSETTO:+0000
END:STANDARD
END:VTIMEZONE
BEGIN:VEVENT
UID:69e6061ab1bca
DTSTAMP:20260420T105522Z
SUMMARY:Tribute to The Heroes
DTSTART:20271002T180000Z
DTEND:20271002T180000Z
END:VEVENT
END:VCALENDAR