BEGIN:VCALENDAR
VERSION:2.0
PRODID:spatie/icalendar-generator
BEGIN:VTIMEZONE
TZID:UTC
BEGIN:STANDARD
DTSTART:20250724T075928
TZOFFSETFROM:+0000
TZOFFSETTO:+0000
END:STANDARD
END:VTIMEZONE
BEGIN:VEVENT
UID:69e5dce092dd9
DTSTAMP:20260420T075928Z
SUMMARY:Paul Panzer
DTSTART:20270213T190000Z
DTEND:20270213T190000Z
END:VEVENT
END:VCALENDAR