BEGIN:VCALENDAR
VERSION:2.0
PRODID:spatie/icalendar-generator
BEGIN:VTIMEZONE
TZID:UTC
BEGIN:STANDARD
DTSTART:20250724T080627
TZOFFSETFROM:+0000
TZOFFSETTO:+0000
END:STANDARD
END:VTIMEZONE
BEGIN:VEVENT
UID:69e5de83b1e39
DTSTAMP:20260420T080627Z
SUMMARY:Alice Hoffmann und Bettina Koch - In Würde albern
DTSTART:20270213T190000Z
DTEND:20270213T190000Z
END:VEVENT
END:VCALENDAR