BEGIN:VCALENDAR
VERSION:2.0
PRODID:spatie/icalendar-generator
BEGIN:VTIMEZONE
TZID:UTC
BEGIN:STANDARD
DTSTART:20250724T105528
TZOFFSETFROM:+0000
TZOFFSETTO:+0000
END:STANDARD
END:VTIMEZONE
BEGIN:VEVENT
UID:69e6062093eea
DTSTAMP:20260420T105528Z
SUMMARY:Sterne zum Verlieben
DTSTART:20260710T180000Z
DTEND:20260710T180000Z
END:VEVENT
END:VCALENDAR