BEGIN:VCALENDAR
VERSION:2.0
PRODID:spatie/icalendar-generator
BEGIN:VTIMEZONE
TZID:UTC
BEGIN:STANDARD
DTSTART:20250724T105000
TZOFFSETFROM:+0000
TZOFFSETTO:+0000
END:STANDARD
END:VTIMEZONE
BEGIN:VEVENT
UID:69e604d83ff6b
DTSTAMP:20260420T105000Z
SUMMARY:Sterne zum Verlieben
DTSTART:20260626T180000Z
DTEND:20260626T180000Z
END:VEVENT
END:VCALENDAR