BEGIN:VCALENDAR
VERSION:2.0
PRODID:spatie/icalendar-generator
BEGIN:VTIMEZONE
TZID:UTC
BEGIN:STANDARD
DTSTART:20250724T104835
TZOFFSETFROM:+0000
TZOFFSETTO:+0000
END:STANDARD
END:VTIMEZONE
BEGIN:VEVENT
UID:69e60483b2e1f
DTSTAMP:20260420T104835Z
SUMMARY:Sterne zum Verlieben
DTSTART:20260628T160000Z
DTEND:20260628T160000Z
END:VEVENT
END:VCALENDAR