BEGIN:VCALENDAR
VERSION:2.0
PRODID:spatie/icalendar-generator
BEGIN:VTIMEZONE
TZID:UTC
BEGIN:STANDARD
DTSTART:20250728T210004
TZOFFSETFROM:+0000
TZOFFSETTO:+0000
END:STANDARD
END:VTIMEZONE
BEGIN:VEVENT
UID:69ebd9d49ce76
DTSTAMP:20260424T210004Z
SUMMARY:Thomas Sifflings Rhein Neckar - Jazz Allstars - Soul Jazz \"Back to
  the 70s\"
DTSTART:20260621T150000Z
DTEND:20260621T150000Z
END:VEVENT
END:VCALENDAR