BEGIN:VCALENDAR
VERSION:2.0
PRODID:spatie/icalendar-generator
BEGIN:VTIMEZONE
TZID:UTC
BEGIN:STANDARD
DTSTART:20250729T163153
TZOFFSETFROM:+0000
TZOFFSETTO:+0000
END:STANDARD
END:VTIMEZONE
BEGIN:VEVENT
UID:69ecec79cf61a
DTSTAMP:20260425T163153Z
SUMMARY:Blues Night Special
DTSTART:20260705T150000Z
DTEND:20260705T170000Z
END:VEVENT
END:VCALENDAR