BEGIN:VCALENDAR
VERSION:2.0
PRODID:spatie/icalendar-generator
BEGIN:VTIMEZONE
TZID:UTC
BEGIN:STANDARD
DTSTART:20250727T093620
TZOFFSETFROM:+0000
TZOFFSETTO:+0000
END:STANDARD
END:VTIMEZONE
BEGIN:VEVENT
UID:69e9e814975df
DTSTAMP:20260423T093620Z
SUMMARY:Samuel Kilian - Was sich liebt\, das likt sich
DTSTART:20261015T180000Z
DTEND:20261015T180000Z
END:VEVENT
END:VCALENDAR