BEGIN:VCALENDAR
VERSION:2.0
PRODID:spatie/icalendar-generator
BEGIN:VTIMEZONE
TZID:UTC
BEGIN:STANDARD
DTSTART:20250727T124203
TZOFFSETFROM:+0000
TZOFFSETTO:+0000
END:STANDARD
END:VTIMEZONE
BEGIN:VEVENT
UID:69ea139b3be5d
DTSTAMP:20260423T124203Z
SUMMARY:Nosie Katzmann & Daniel Helfrich - Calling Mr. Vain
DTSTART:20261010T180000Z
DTEND:20261010T180000Z
END:VEVENT
END:VCALENDAR