BEGIN:VCALENDAR
VERSION:2.0
PRODID:spatie/icalendar-generator
BEGIN:VTIMEZONE
TZID:UTC
BEGIN:STANDARD
DTSTART:20250728T051534
TZOFFSETFROM:+0000
TZOFFSETTO:+0000
END:STANDARD
END:VTIMEZONE
BEGIN:VEVENT
UID:69eafc76a66ae
DTSTAMP:20260424T051534Z
SUMMARY:Ausbilder Schmidt - Top Lusche de Luxe
DTSTART:20260918T180000Z
DTEND:20260918T180000Z
END:VEVENT
END:VCALENDAR