BEGIN:VCALENDAR
VERSION:2.0
PRODID:spatie/icalendar-generator
BEGIN:VTIMEZONE
TZID:UTC
BEGIN:STANDARD
DTSTART:20250725T105958
TZOFFSETFROM:+0000
TZOFFSETTO:+0000
END:STANDARD
END:VTIMEZONE
BEGIN:VEVENT
UID:69e758aeabd12
DTSTAMP:20260421T105958Z
SUMMARY:Heinz Gröning - Verschollen im Weihnachtsstollen
DTSTART:20261217T190000Z
DTEND:20261217T190000Z
END:VEVENT
END:VCALENDAR