BEGIN:VCALENDAR
VERSION:2.0
PRODID:spatie/icalendar-generator
BEGIN:VTIMEZONE
TZID:UTC
BEGIN:STANDARD
DTSTART:20250724T125410
TZOFFSETFROM:+0000
TZOFFSETTO:+0000
END:STANDARD
END:VTIMEZONE
BEGIN:VEVENT
UID:69e621f2ce00f
DTSTAMP:20260420T125410Z
SUMMARY:Tupoka Ogette: \"Trotzdem zuhause” - Lesung und Gespräch mit Sha
 ron Dodua Otoo
DTSTART:20260924T180000Z
DTEND:20260924T180000Z
END:VEVENT
END:VCALENDAR