BEGIN:VCALENDAR
VERSION:2.0
PRODID:spatie/icalendar-generator
BEGIN:VTIMEZONE
TZID:UTC
BEGIN:STANDARD
DTSTART:20250723T151351
TZOFFSETFROM:+0000
TZOFFSETTO:+0000
END:STANDARD
END:VTIMEZONE
BEGIN:VEVENT
UID:69e4f12f02094
DTSTAMP:20260419T151351Z
SUMMARY:Alexander Tillegreen - Stücke für Werke
DTSTART:20270107T090000Z
DTEND:20270107T090000Z
END:VEVENT
END:VCALENDAR