BEGIN:VCALENDAR
VERSION:2.0
PRODID:spatie/icalendar-generator
BEGIN:VTIMEZONE
TZID:UTC
BEGIN:STANDARD
DTSTART:20250723T170306
TZOFFSETFROM:+0000
TZOFFSETTO:+0000
END:STANDARD
END:VTIMEZONE
BEGIN:VEVENT
UID:69e50aca98ce3
DTSTAMP:20260419T170306Z
SUMMARY:Alexander Tillegreen - Stücke für Werke
DTSTART:20270105T090000Z
DTEND:20270105T090000Z
END:VEVENT
END:VCALENDAR