BEGIN:VCALENDAR
VERSION:2.0
PRODID:spatie/icalendar-generator
BEGIN:VTIMEZONE
TZID:UTC
BEGIN:STANDARD
DTSTART:20250723T170217
TZOFFSETFROM:+0000
TZOFFSETTO:+0000
END:STANDARD
END:VTIMEZONE
BEGIN:VEVENT
UID:69e50a990c196
DTSTAMP:20260419T170217Z
SUMMARY:Alexander Tillegreen - Stücke für Werke
DTSTART:20270103T090000Z
DTEND:20270103T090000Z
END:VEVENT
END:VCALENDAR