BEGIN:VCALENDAR
VERSION:2.0
PRODID:spatie/icalendar-generator
BEGIN:VTIMEZONE
TZID:UTC
BEGIN:STANDARD
DTSTART:20250725T161025
TZOFFSETFROM:+0000
TZOFFSETTO:+0000
END:STANDARD
END:VTIMEZONE
BEGIN:VEVENT
UID:69e7a17151d06
DTSTAMP:20260421T161025Z
SUMMARY:Alexander Tillegreen - Stücke für Werke
DTSTART:20261209T090000Z
DTEND:20261209T090000Z
END:VEVENT
END:VCALENDAR