BEGIN:VCALENDAR
VERSION:2.0
PRODID:spatie/icalendar-generator
BEGIN:VTIMEZONE
TZID:UTC
BEGIN:STANDARD
DTSTART:20250726T004127
TZOFFSETFROM:+0000
TZOFFSETTO:+0000
END:STANDARD
END:VTIMEZONE
BEGIN:VEVENT
UID:69e81937da0a5
DTSTAMP:20260422T004127Z
SUMMARY:Alexander Tillegreen - Stücke für Werke
DTSTART:20261127T090000Z
DTEND:20261127T090000Z
END:VEVENT
END:VCALENDAR