BEGIN:VCALENDAR
VERSION:2.0
PRODID:spatie/icalendar-generator
BEGIN:VTIMEZONE
TZID:UTC
BEGIN:STANDARD
DTSTART:20250724T124935
TZOFFSETFROM:+0000
TZOFFSETTO:+0000
END:STANDARD
END:VTIMEZONE
BEGIN:VEVENT
UID:69e620dfa00d8
DTSTAMP:20260420T124935Z
SUMMARY:Alexander Tillegreen - Stücke für Werke
DTSTART:20261120T090000Z
DTEND:20261120T090000Z
END:VEVENT
END:VCALENDAR