BEGIN:VCALENDAR
VERSION:2.0
PRODID:spatie/icalendar-generator
BEGIN:VTIMEZONE
TZID:UTC
BEGIN:STANDARD
DTSTART:20250724T124634
TZOFFSETFROM:+0000
TZOFFSETTO:+0000
END:STANDARD
END:VTIMEZONE
BEGIN:VEVENT
UID:69e6202a90a08
DTSTAMP:20260420T124634Z
SUMMARY:Alexander Tillegreen - Stücke für Werke
DTSTART:20261115T090000Z
DTEND:20261115T090000Z
END:VEVENT
END:VCALENDAR