BEGIN:VCALENDAR
VERSION:2.0
PRODID:spatie/icalendar-generator
BEGIN:VTIMEZONE
TZID:UTC
BEGIN:STANDARD
DTSTART:20250724T130650
TZOFFSETFROM:+0000
TZOFFSETTO:+0000
END:STANDARD
END:VTIMEZONE
BEGIN:VEVENT
UID:69e624eac8ae5
DTSTAMP:20260420T130650Z
SUMMARY:Alexander Tillegreen - Stücke für Werke
DTSTART:20261108T090000Z
DTEND:20261108T090000Z
END:VEVENT
END:VCALENDAR