BEGIN:VCALENDAR
VERSION:2.0
PRODID:spatie/icalendar-generator
BEGIN:VTIMEZONE
TZID:UTC
BEGIN:STANDARD
DTSTART:20250724T140714
TZOFFSETFROM:+0000
TZOFFSETTO:+0000
END:STANDARD
END:VTIMEZONE
BEGIN:VEVENT
UID:69e633121e0c7
DTSTAMP:20260420T140714Z
SUMMARY:Alexander Tillegreen - Stücke für Werke
DTSTART:20261105T090000Z
DTEND:20261105T090000Z
END:VEVENT
END:VCALENDAR