BEGIN:VCALENDAR
VERSION:2.0
PRODID:spatie/icalendar-generator
BEGIN:VTIMEZONE
TZID:UTC
BEGIN:STANDARD
DTSTART:20250727T004723
TZOFFSETFROM:+0000
TZOFFSETTO:+0000
END:STANDARD
END:VTIMEZONE
BEGIN:VEVENT
UID:69e96c1b451bc
DTSTAMP:20260423T004723Z
SUMMARY:Alexander Tillegreen - Stücke für Werke
DTSTART:20261027T090000Z
DTEND:20261027T090000Z
END:VEVENT
END:VCALENDAR