BEGIN:VCALENDAR
VERSION:2.0
PRODID:spatie/icalendar-generator
BEGIN:VTIMEZONE
TZID:UTC
BEGIN:STANDARD
DTSTART:20250727T050402
TZOFFSETFROM:+0000
TZOFFSETTO:+0000
END:STANDARD
END:VTIMEZONE
BEGIN:VEVENT
UID:69e9a84247a4d
DTSTAMP:20260423T050402Z
SUMMARY:Alexander Tillegreen - Stücke für Werke
DTSTART:20261022T080000Z
DTEND:20261022T080000Z
END:VEVENT
END:VCALENDAR