BEGIN:VCALENDAR
VERSION:2.0
PRODID:spatie/icalendar-generator
BEGIN:VTIMEZONE
TZID:UTC
BEGIN:STANDARD
DTSTART:20250724T130610
TZOFFSETFROM:+0000
TZOFFSETTO:+0000
END:STANDARD
END:VTIMEZONE
BEGIN:VEVENT
UID:69e624c2c6fe0
DTSTAMP:20260420T130610Z
SUMMARY:Alexander Tillegreen - Stücke für Werke
DTSTART:20261021T080000Z
DTEND:20261021T080000Z
END:VEVENT
END:VCALENDAR