BEGIN:VCALENDAR
VERSION:2.0
PRODID:spatie/icalendar-generator
BEGIN:VTIMEZONE
TZID:UTC
BEGIN:STANDARD
DTSTART:20250724T124905
TZOFFSETFROM:+0000
TZOFFSETTO:+0000
END:STANDARD
END:VTIMEZONE
BEGIN:VEVENT
UID:69e620c16a8c3
DTSTAMP:20260420T124905Z
SUMMARY:Alexander Tillegreen - Stücke für Werke
DTSTART:20261011T080000Z
DTEND:20261011T080000Z
END:VEVENT
END:VCALENDAR