BEGIN:VCALENDAR
VERSION:2.0
PRODID:spatie/icalendar-generator
BEGIN:VTIMEZONE
TZID:UTC
BEGIN:STANDARD
DTSTART:20250727T170632
TZOFFSETFROM:+0000
TZOFFSETTO:+0000
END:STANDARD
END:VTIMEZONE
BEGIN:VEVENT
UID:69ea5198c3fe1
DTSTAMP:20260423T170632Z
SUMMARY:Alexander Tillegreen - Stücke für Werke
DTSTART:20261003T080000Z
DTEND:20261003T080000Z
END:VEVENT
END:VCALENDAR