BEGIN:VCALENDAR
VERSION:2.0
PRODID:spatie/icalendar-generator
BEGIN:VTIMEZONE
TZID:UTC
BEGIN:STANDARD
DTSTART:20250727T230308
TZOFFSETFROM:+0000
TZOFFSETTO:+0000
END:STANDARD
END:VTIMEZONE
BEGIN:VEVENT
UID:69eaa52c9b576
DTSTAMP:20260423T230308Z
SUMMARY:Alexander Tillegreen - Stücke für Werke
DTSTART:20260925T080000Z
DTEND:20260925T080000Z
END:VEVENT
END:VCALENDAR