BEGIN:VCALENDAR
VERSION:2.0
PRODID:spatie/icalendar-generator
BEGIN:VTIMEZONE
TZID:UTC
BEGIN:STANDARD
DTSTART:20250728T005035
TZOFFSETFROM:+0000
TZOFFSETTO:+0000
END:STANDARD
END:VTIMEZONE
BEGIN:VEVENT
UID:69eabe5b933f1
DTSTAMP:20260424T005035Z
SUMMARY:Alexander Tillegreen - Stücke für Werke
DTSTART:20260923T080000Z
DTEND:20260923T080000Z
END:VEVENT
END:VCALENDAR