BEGIN:VCALENDAR
VERSION:2.0
PRODID:spatie/icalendar-generator
BEGIN:VTIMEZONE
TZID:UTC
BEGIN:STANDARD
DTSTART:20250728T004050
TZOFFSETFROM:+0000
TZOFFSETTO:+0000
END:STANDARD
END:VTIMEZONE
BEGIN:VEVENT
UID:69eabc12a0d45
DTSTAMP:20260424T004050Z
SUMMARY:Alexander Tillegreen - Stücke für Werke
DTSTART:20260922T080000Z
DTEND:20260922T080000Z
END:VEVENT
END:VCALENDAR