BEGIN:VCALENDAR
VERSION:2.0
PRODID:spatie/icalendar-generator
BEGIN:VTIMEZONE
TZID:UTC
BEGIN:STANDARD
DTSTART:20250728T101256
TZOFFSETFROM:+0000
TZOFFSETTO:+0000
END:STANDARD
END:VTIMEZONE
BEGIN:VEVENT
UID:69eb4228493dc
DTSTAMP:20260424T101256Z
SUMMARY:Alexander Tillegreen - Stücke für Werke
DTSTART:20260912T080000Z
DTEND:20260912T080000Z
END:VEVENT
END:VCALENDAR