BEGIN:VCALENDAR
VERSION:2.0
PRODID:spatie/icalendar-generator
BEGIN:VTIMEZONE
TZID:UTC
BEGIN:STANDARD
DTSTART:20250728T182352
TZOFFSETFROM:+0000
TZOFFSETTO:+0000
END:STANDARD
END:VTIMEZONE
BEGIN:VEVENT
UID:69ebb53831d2a
DTSTAMP:20260424T182352Z
SUMMARY:Alexander Tillegreen - Stücke für Werke
DTSTART:20260902T080000Z
DTEND:20260902T080000Z
END:VEVENT
END:VCALENDAR