BEGIN:VCALENDAR
VERSION:2.0
PRODID:spatie/icalendar-generator
BEGIN:VTIMEZONE
TZID:UTC
BEGIN:STANDARD
DTSTART:20250724T140544
TZOFFSETFROM:+0000
TZOFFSETTO:+0000
END:STANDARD
END:VTIMEZONE
BEGIN:VEVENT
UID:69e632b80d3c1
DTSTAMP:20260420T140544Z
SUMMARY:Alexander Tillegreen - Stücke für Werke
DTSTART:20260819T080000Z
DTEND:20260819T080000Z
END:VEVENT
END:VCALENDAR