BEGIN:VCALENDAR
VERSION:2.0
PRODID:spatie/icalendar-generator
BEGIN:VTIMEZONE
TZID:UTC
BEGIN:STANDARD
DTSTART:20250724T130612
TZOFFSETFROM:+0000
TZOFFSETTO:+0000
END:STANDARD
END:VTIMEZONE
BEGIN:VEVENT
UID:69e624c446cce
DTSTAMP:20260420T130612Z
SUMMARY:Alexander Tillegreen - Stücke für Werke
DTSTART:20260811T080000Z
DTEND:20260811T080000Z
END:VEVENT
END:VCALENDAR