BEGIN:VCALENDAR
VERSION:2.0
PRODID:spatie/icalendar-generator
BEGIN:VTIMEZONE
TZID:UTC
BEGIN:STANDARD
DTSTART:20250724T130444
TZOFFSETFROM:+0000
TZOFFSETTO:+0000
END:STANDARD
END:VTIMEZONE
BEGIN:VEVENT
UID:69e6246c54977
DTSTAMP:20260420T130444Z
SUMMARY:Alexander Tillegreen - Stücke für Werke
DTSTART:20260809T080000Z
DTEND:20260809T080000Z
END:VEVENT
END:VCALENDAR