BEGIN:VCALENDAR
VERSION:2.0
PRODID:spatie/icalendar-generator
BEGIN:VTIMEZONE
TZID:UTC
BEGIN:STANDARD
DTSTART:20250728T173517
TZOFFSETFROM:+0000
TZOFFSETTO:+0000
END:STANDARD
END:VTIMEZONE
BEGIN:VEVENT
UID:69eba9d59685f
DTSTAMP:20260424T173517Z
SUMMARY:Alexander Tillegreen - Stücke für Werke
DTSTART:20260808T080000Z
DTEND:20260808T080000Z
END:VEVENT
END:VCALENDAR