BEGIN:VCALENDAR
VERSION:2.0
PRODID:spatie/icalendar-generator
BEGIN:VTIMEZONE
TZID:UTC
BEGIN:STANDARD
DTSTART:20250724T124756
TZOFFSETFROM:+0000
TZOFFSETTO:+0000
END:STANDARD
END:VTIMEZONE
BEGIN:VEVENT
UID:69e6207caab22
DTSTAMP:20260420T124756Z
SUMMARY:Alexander Tillegreen - Stücke für Werke
DTSTART:20260726T080000Z
DTEND:20260726T080000Z
END:VEVENT
END:VCALENDAR