BEGIN:VCALENDAR
VERSION:2.0
PRODID:spatie/icalendar-generator
BEGIN:VTIMEZONE
TZID:UTC
BEGIN:STANDARD
DTSTART:20250727T230307
TZOFFSETFROM:+0000
TZOFFSETTO:+0000
END:STANDARD
END:VTIMEZONE
BEGIN:VEVENT
UID:69eaa52b2c5fc
DTSTAMP:20260423T230307Z
SUMMARY:Alexander Tillegreen - Stücke für Werke
DTSTART:20260718T080000Z
DTEND:20260718T080000Z
END:VEVENT
END:VCALENDAR