BEGIN:VCALENDAR
VERSION:2.0
PRODID:spatie/icalendar-generator
BEGIN:VTIMEZONE
TZID:UTC
BEGIN:STANDARD
DTSTART:20250727T134755
TZOFFSETFROM:+0000
TZOFFSETTO:+0000
END:STANDARD
END:VTIMEZONE
BEGIN:VEVENT
UID:69ea230b17667
DTSTAMP:20260423T134755Z
SUMMARY:Alexander Tillegreen - Stücke für Werke
DTSTART:20260704T080000Z
DTEND:20260704T080000Z
END:VEVENT
END:VCALENDAR