BEGIN:VCALENDAR
VERSION:2.0
PRODID:spatie/icalendar-generator
BEGIN:VTIMEZONE
TZID:UTC
BEGIN:STANDARD
DTSTART:20250727T055648
TZOFFSETFROM:+0000
TZOFFSETTO:+0000
END:STANDARD
END:VTIMEZONE
BEGIN:VEVENT
UID:69e9b4a03f68d
DTSTAMP:20260423T055648Z
SUMMARY:Alexander Tillegreen - Stücke für Werke
DTSTART:20260623T080000Z
DTEND:20260623T080000Z
END:VEVENT
END:VCALENDAR