BEGIN:VCALENDAR
VERSION:2.0
PRODID:spatie/icalendar-generator
BEGIN:VTIMEZONE
TZID:UTC
BEGIN:STANDARD
DTSTART:20250727T025000
TZOFFSETFROM:+0000
TZOFFSETTO:+0000
END:STANDARD
END:VTIMEZONE
BEGIN:VEVENT
UID:69e988d888efc
DTSTAMP:20260423T025000Z
SUMMARY:Alexander Tillegreen - Stücke für Werke
DTSTART:20260620T080000Z
DTEND:20260620T080000Z
END:VEVENT
END:VCALENDAR