BEGIN:VCALENDAR
VERSION:2.0
PRODID:spatie/icalendar-generator
BEGIN:VTIMEZONE
TZID:UTC
BEGIN:STANDARD
DTSTART:20250724T124446
TZOFFSETFROM:+0000
TZOFFSETTO:+0000
END:STANDARD
END:VTIMEZONE
BEGIN:VEVENT
UID:69e61fbe12b8e
DTSTAMP:20260420T124446Z
SUMMARY:Alexander Tillegreen - Stücke für Werke
DTSTART:20260616T080000Z
DTEND:20260616T080000Z
END:VEVENT
END:VCALENDAR