BEGIN:VCALENDAR
VERSION:2.0
PRODID:spatie/icalendar-generator
BEGIN:VTIMEZONE
TZID:UTC
BEGIN:STANDARD
DTSTART:20250724T140805
TZOFFSETFROM:+0000
TZOFFSETTO:+0000
END:STANDARD
END:VTIMEZONE
BEGIN:VEVENT
UID:69e63345b97b8
DTSTAMP:20260420T140805Z
SUMMARY:Alexander Tillegreen - Stücke für Werke
DTSTART:20260613T080000Z
DTEND:20260613T080000Z
END:VEVENT
END:VCALENDAR